BEGIN:VCALENDAR
VERSION:2.0
PRODID:-//ChamberMaster//Event Calendar 2.0//EN
METHOD:PUBLISH
X-PUBLISHED-TTL:P3D
REFRESH-INTERVAL:P3D
CALSCALE:GREGORIAN
BEGIN:VEVENT
DTSTART:20170720T150000Z
DTEND:20170720T153000Z
X-MICROSOFT-CDO-ALLDAYEVENT:FALSE
SUMMARY:Ribbon Cutting - Frymoyer Stone Fabrication and Supply
DESCRIPTION:Frymoyer Stone Fabrication and Supply\, LLC\, 205 S. 35th St. Bettendorf\, IA 52722\, will host a ribbon cutting ceremony on Thursday\, July 20 at 10am to celebrate their grand opening.\n\n\n\nClick here to learn more about Frymoyer Stone Fabrication and Supply.
X-ALT-DESC;FMTTYPE=text/html:<span style="font-size:14px\;"><span style="font-family:arial\;">Frymoyer Stone Fabrication and Supply\, LLC\, 205 S. 35th St. Bettendorf\, IA 52722\, will host a ribbon cutting ceremony on Thursday\, July 20 at 10am to celebrate their grand opening.<br />\n<br />\n<a href="https://www.frymoyerstone.com/">Click here</a> to learn more about Frymoyer Stone Fabrication and Supply.&nbsp\;</span></span>
LOCATION:Frymoyer Stone Fabrication and Supply\, LLC 205 S. 35th St. Bettendorf\, IA 52722
UID:e.2843.6324
SEQUENCE:3
DTSTAMP:20260424T003155Z
URL:https://member.quadcitieschamber.com/events/details/ribbon-cutting-frymoyer-stone-fabrication-and-supply-6324
END:VEVENT

END:VCALENDAR
