BEGIN:VCALENDAR
VERSION:2.0
PRODID:-//ChamberMaster//Event Calendar 2.0//EN
METHOD:PUBLISH
X-PUBLISHED-TTL:P3D
REFRESH-INTERVAL:P3D
CALSCALE:GREGORIAN
BEGIN:VEVENT
DTSTART:20190412T203000Z
DTEND:20190412T210000Z
X-MICROSOFT-CDO-ALLDAYEVENT:FALSE
SUMMARY:Ribbon Cutting - G's Gourmet Popcorn
DESCRIPTION:G's Gourmet Popcorn will host a ribbon cutting ceremony on Friday\, April 12\, at 3:30 pm to celebrate their new business.
X-ALT-DESC;FMTTYPE=text/html:G&rsquo\;s Gourmet Popcorn will host a ribbon cutting ceremony on Friday\, April 12\, at 3:30 pm to celebrate their new business.
LOCATION:522 - 15th Street Moline\, IL 61265 Located in the Olde Town District\, next to the former Monster Sewing location.
UID:e.2843.13846
SEQUENCE:3
DTSTAMP:20260422T163930Z
URL:https://member.quadcitieschamber.com/events/details/ribbon-cutting-g-s-gourmet-popcorn-13846
END:VEVENT

END:VCALENDAR
