BEGIN:VCALENDAR
VERSION:2.0
PRODID:-//ChamberMaster//Event Calendar 2.0//EN
METHOD:PUBLISH
X-PUBLISHED-TTL:P3D
REFRESH-INTERVAL:P3D
CALSCALE:GREGORIAN
BEGIN:VEVENT
DTSTART:20190522T210000Z
DTEND:20190522T220000Z
X-MICROSOFT-CDO-ALLDAYEVENT:FALSE
SUMMARY:Ribbon Cutting - Galena Brewing Co. Ale House
DESCRIPTION:Galena Brewing Co. Ale House will be hosting a ribbon cutting ceremony on Wednesday\, May 22 to celebrate the opening of their second location.\n\n\n\nAn open house will follow the ceremony.
X-ALT-DESC;FMTTYPE=text/html:<br />\n<span style="font-size:16px\;"><span style="font-family:arial\;">Galena Brewing Co. Ale House will be hosting a ribbon cutting ceremony on Wednesday\, May 22 to celebrate the opening of their second location.<br />\n<br />\nAn open house will follow the ceremony.</span></span>
LOCATION:1534 River Drive Moline\, IL 61265
UID:e.2843.15357
SEQUENCE:3
DTSTAMP:20260422T164214Z
URL:https://member.quadcitieschamber.com/events/details/ribbon-cutting-galena-brewing-co-ale-house-15357
END:VEVENT

END:VCALENDAR
