BEGIN:VCALENDAR
VERSION:2.0
PRODID:-//ChamberMaster//Event Calendar 2.0//EN
METHOD:PUBLISH
X-PUBLISHED-TTL:P3D
REFRESH-INTERVAL:P3D
CALSCALE:GREGORIAN
BEGIN:VEVENT
DTSTART:20180822T173000Z
DTEND:20180822T183000Z
X-MICROSOFT-CDO-ALLDAYEVENT:FALSE
SUMMARY:Ribbon Cutting - Genesis HealthPlex
DESCRIPTION:Genesis Health System will host a ribbon cutting ceremony on Wednesday\, August 22 at 12:30pm to celebrate the grand opening of their new "one stop" Genesis HealthPlex location at 3200 West Kimberly Road\, Davenport. Tours of the new facility will follow the ribbon cutting. \n\n \n\nGenesis Convenient Care walk-in clinic and lab and x-ray services will open Friday\, Aug. 24. Physician offices and physical therapy will open Monday\, Aug. 27.\n\n \n\n**Directions   located directly across Kimberly Rd. from Wal-Mart.
X-ALT-DESC;FMTTYPE=text/html:<span style="font-family:arial\,sans-serif\;">Genesis Health System will host a ribbon cutting ceremony on Wednesday\, August 22 at 12:30pm to celebrate the grand opening of their new &ldquo\;one stop&rdquo\; Genesis HealthPlex location at 3200 West Kimberly Road\, Davenport. Tours of the new facility will follow the ribbon cutting. </span><br />\n&nbsp\;<br />\n<span style="font-family:arial\,sans-serif\;">Genesis Convenient Care walk-in clinic and lab and x-ray services will open Friday\, Aug. 24. Physician offices and physical therapy will open Monday\, Aug. 27.</span><br />\n&nbsp\;<br />\n<span style="font-family:arial\,sans-serif\;">**Directions &ndash\; located directly across Kimberly Rd. from Wal-Mart. </span>
LOCATION:3200 West Kimberly Road Davenport\, Iowa 52806
UID:e.2843.13395
SEQUENCE:3
DTSTAMP:20260423T062028Z
URL:https://member.quadcitieschamber.com/events/details/ribbon-cutting-genesis-healthplex-13395
END:VEVENT

END:VCALENDAR
