BEGIN:VCALENDAR
VERSION:2.0
PRODID:-//ChamberMaster//Event Calendar 2.0//EN
METHOD:PUBLISH
X-PUBLISHED-TTL:P3D
REFRESH-INTERVAL:P3D
CALSCALE:GREGORIAN
BEGIN:VEVENT
DTSTART:20191101T213000Z
DTEND:20191101T220000Z
X-MICROSOFT-CDO-ALLDAYEVENT:FALSE
SUMMARY:Ribbon Cutting - Gordon-Van Tine Lofts
DESCRIPTION:The Gordon-Van Tine Loft project will host a ribbon cutting on Friday\, November 1 at 4:30 pm to celebrate their Grand Opening. Please RSVP to Kayla Steen at kayla@qclofts.com\n\n\n\nAn Open House will take place from 4:30 p.m. to 8:00 p.m. Food\, beverages\, entertainment and tours will be available.\n\n \n\nDuring the four-year rehabilitation\, an underused industrial complex has been transformed into 113 residential units and 21\,000 square feet of commercial space. Additionally\, the Isabel Bloom Company now features a new showroom\, offices and enhanced production space.\n\n \n\nCompletion of this exciting $37 million dollar private and public investment by Y & J Properties on the east side of Davenport's downtown riverfront would not have been possible without the assistance and support of the city's elected officials and staff.
X-ALT-DESC;FMTTYPE=text/html:<span style="font-size:16px\;"><span style="font-family:arial\;">The Gordon-Van Tine Loft project will host a ribbon cutting on Friday\, November 1 at 4:30 pm to celebrate their Grand Opening.&nbsp\;<span style="font-size:18px\;"><strong style="color: rgb(51\, 51\, 51)\; font-family: arial\, sans-serif\; font-size: 13px\; background-color: rgb(255\, 255\, 255)\;">Please RSVP to Kayla Steen at&nbsp\;<a href="mailto:kayla@qclofts.com" style="color: rgb(7\, 130\, 193)\;">kayla@qclofts.com</a></strong></span><br />\n<br />\nAn Open House will take place from 4:30 p.m. to 8:00 p.m. Food\, beverages\, entertainment and tours will be available.<br />\n&nbsp\;<br />\nDuring the four-year rehabilitation\, an underused industrial complex has been transformed into 113 residential units and 21\,000 square feet of commercial space. Additionally\, the Isabel Bloom Company now features a new showroom\, offices and enhanced production space.<br />\n&nbsp\;<br />\nCompletion of this exciting $37 million dollar private and public investment by Y &amp\; J Properties on the east side of Davenport&rsquo\;s downtown riverfront would not have been possible without the assistance and support of the city&rsquo\;s elected officials and staff.<br />\n&nbsp\;</span></span>
LOCATION:736 Federal Street Davenport\, IA 52803
UID:e.2843.16918
SEQUENCE:3
DTSTAMP:20260422T083235Z
URL:https://member.quadcitieschamber.com/events/details/ribbon-cutting-gordon-van-tine-lofts-16918
END:VEVENT

END:VCALENDAR
