BEGIN:VCALENDAR
VERSION:2.0
PRODID:-//ChamberMaster//Event Calendar 2.0//EN
METHOD:PUBLISH
X-PUBLISHED-TTL:P3D
REFRESH-INTERVAL:P3D
CALSCALE:GREGORIAN
BEGIN:VEVENT
DTSTART:20180920T200000Z
DTEND:20180920T203000Z
X-MICROSOFT-CDO-ALLDAYEVENT:FALSE
SUMMARY:Ribbon Cutting - Grace Boutique
DESCRIPTION:Grace Boutique is the Quad Cities newest women's contemporary plus size fashion boutique. Open House festivities to follow the ribbon cutting.
X-ALT-DESC;FMTTYPE=text/html:Grace Boutique is the Quad Cities newest women&#39\;s contemporary plus size fashion boutique. Open House festivities to follow the ribbon cutting.
LOCATION:2507 53rd Avenue Bettendorf\, IA 52722
UID:e.2843.13482
SEQUENCE:3
DTSTAMP:20260423T043407Z
URL:https://member.quadcitieschamber.com/events/details/ribbon-cutting-grace-boutique-13482
END:VEVENT

END:VCALENDAR
