BEGIN:VCALENDAR
VERSION:2.0
PRODID:-//ChamberMaster//Event Calendar 2.0//EN
METHOD:PUBLISH
X-PUBLISHED-TTL:P3D
REFRESH-INTERVAL:P3D
CALSCALE:GREGORIAN
BEGIN:VEVENT
DTSTART:20200124T220000Z
DTEND:20200124T223000Z
X-MICROSOFT-CDO-ALLDAYEVENT:FALSE
SUMMARY:Ribbon Cutting - Grey & Co. Salon
DESCRIPTION:Grey & Co. Salon will host a ribbon cutting on Friday\, January 24th to celebrate their Grand Opening. Beverages and snacks will be available. An Open House will take place from 4:00   8:00 pm.\n\n\n\nGrey & Co. Salon has established a premier salon for a premier city! They offer great products like Oribe\, Keune & Bumble and Bumble. Their mission is to treat clients to a grand experience in which they enhance the beauty that is already there. Their stylists come with years of experience and accomplishments. Services range from - cuts\, styling\, coloring\, waxing and much more. Their team is considered extended family and they want to provide them with an opportunity to make a career doing what they love.
X-ALT-DESC;FMTTYPE=text/html:<span style="font-size:16px\;"><span style="font-family:arial\;">Grey &amp\; Co. Salon will host a ribbon cutting on Friday\, January 24<sup>th</sup> to celebrate their Grand Opening. Beverages and snacks will be available. An Open House will take place from 4:00 &ndash\; 8:00 pm.<br />\n<br />\nGrey &amp\; Co. Salon has established a premier salon for a premier city! They offer great products like Oribe\, Keune &amp\; Bumble and Bumble. Their mission is to treat clients to a grand experience in which they enhance the beauty that is already there. Their stylists come with years of experience and accomplishments. Services range from - cuts\, styling\, coloring\, waxing and much more. Their team is considered extended family and they want to provide them with an opportunity to make a career doing what they love.</span></span>
LOCATION:4367 53rd Avenue Bettendorf\, IA 52722
UID:e.2843.17467
SEQUENCE:3
DTSTAMP:20260422T015311Z
URL:https://member.quadcitieschamber.com/events/details/ribbon-cutting-grey-co-salon-17467
END:VEVENT

END:VCALENDAR
