BEGIN:VCALENDAR
VERSION:2.0
PRODID:-//ChamberMaster//Event Calendar 2.0//EN
METHOD:PUBLISH
X-PUBLISHED-TTL:P3D
REFRESH-INTERVAL:P3D
CALSCALE:GREGORIAN
BEGIN:VEVENT
DTSTART:20190617T150000Z
DTEND:20190617T153000Z
X-MICROSOFT-CDO-ALLDAYEVENT:FALSE
SUMMARY:Ribbon Cutting - H.R. Kolusu\, MDPC
DESCRIPTION:H.R. Kolusu\, MDPC will host a ribbon cutting ceremony on Monday\, June 17 at 10:00 am\, to celebrate the opening of their new practice. An Open House will follow the ceremony.
X-ALT-DESC;FMTTYPE=text/html:<br />\n<span style="font-size:16px\;"><span style="font-family:calibri\,sans-serif\;"><span style="font-family:arial\;">H.R. Kolusu\, MDPC will host a ribbon cutting ceremony on Monday\, June 17 at 10:00 am\, to celebrate the opening of their new practice. An Open House will follow the ceremony.</span></span></span>
LOCATION:609 35th Avenue\, Suite 1A Moline\, IL 61265
UID:e.2843.15408
SEQUENCE:3
DTSTAMP:20260422T131449Z
URL:https://member.quadcitieschamber.com/events/details/ribbon-cutting-h-r-kolusu-mdpc-15408
END:VEVENT

END:VCALENDAR
