BEGIN:VCALENDAR
VERSION:2.0
PRODID:-//ChamberMaster//Event Calendar 2.0//EN
METHOD:PUBLISH
X-PUBLISHED-TTL:P3D
REFRESH-INTERVAL:P3D
CALSCALE:GREGORIAN
BEGIN:VEVENT
DTSTART:20250613T170000Z
DTEND:20250613T180000Z
X-MICROSOFT-CDO-ALLDAYEVENT:FALSE
SUMMARY:Ribbon Cutting - Heritage Landscape Design
DESCRIPTION:Heritage Landscape Design will host a ribbon cutting to celebrate their expansion and 30th Anniversary on Friday\, June 13\, 2025 at Noon.  Their facility is located at 4500 49th Avenue in Moline\, IL.\n\n \n\nHeritage Landscape Design is a full-service\, design-build landscape company working with customers in a 60-mile radius.  They are celebrating their 30th anniversary and have expanded to a new location.\n\n \n\nFor more information\, please visit Heritage Landscape Design
X-ALT-DESC;FMTTYPE=text/html:Heritage Landscape Design will host a ribbon cutting to celebrate their expansion and 30<sup>th</sup> Anniversary on Friday\, June 13\, 2025 at Noon.&nbsp\; Their facility is located at 4500 49<sup>th</sup> Avenue in Moline\, IL.<br />\n&nbsp\;<br />\nHeritage Landscape Design is a full-service\, design-build landscape company working with customers in a 60-mile radius.&nbsp\; They are celebrating their 30<sup>th</sup> anniversary and have expanded to a new location.<br />\n&nbsp\;<br />\nFor more information\, please visit <a href="https://heritagelandscapedesign.com/">Heritage Landscape Design</a><br />\n&nbsp\;
LOCATION:Heritage Landscape Design 4500 49th Avenue Moline\, IL 61265
UID:e.2843.23638
SEQUENCE:3
DTSTAMP:20260426T020022Z
URL:https://member.quadcitieschamber.com/events/details/ribbon-cutting-heritage-landscape-design-23638
END:VEVENT

END:VCALENDAR
