BEGIN:VCALENDAR
VERSION:2.0
PRODID:-//ChamberMaster//Event Calendar 2.0//EN
METHOD:PUBLISH
X-PUBLISHED-TTL:P3D
REFRESH-INTERVAL:P3D
CALSCALE:GREGORIAN
BEGIN:VEVENT
DTSTART:20180529T213000Z
DTEND:20180529T220000Z
X-MICROSOFT-CDO-ALLDAYEVENT:FALSE
SUMMARY:Ribbon Cutting - High 5 Lanes & Games
DESCRIPTION:High 5 Lanes & Games\, 4850 BettPlex Drive Bettendorf\, Iowa 52722 will host a ribbon cutting ceremony on Tuesday\, May 29 at 4:30pm to celebrate their grand opening! \n\n \n\nHigh 5 Lanes & Games is an upscale family entertainment center where they take bowling\, laser tag\, arcade games\, escape rooms\, and private parties to the next level! They are located at the TBK Bank Sports Complex. \n\n \n\nClick here to visit their website.\n\n \n\nClick here to view their FaceBook page.
X-ALT-DESC;FMTTYPE=text/html:<br />\n<span style="font-family:arial\,sans-serif\;">High 5 Lanes &amp\; Games\, 4850 BettPlex Drive Bettendorf\, Iowa 52722 will host a ribbon cutting ceremony on Tuesday\, May 29 at 4:30pm to celebrate their grand opening! </span><br />\n&nbsp\;<br />\n<span style="font-family:arial\,sans-serif\;">High 5 Lanes &amp\; Games is an upscale family entertainment center where they take bowling\, laser tag\, arcade games\, escape rooms\, and private parties to the next level! They are located at the TBK Bank Sports Complex. </span><br />\n&nbsp\;<br />\n<span style="font-family:arial\,sans-serif\;"><a href="http://bettendorf.bowlhighfive.com/">Click here</a></span> to visit their website.<br />\n&nbsp\;<br />\n<span style="font-family:arial\,sans-serif\;"><a href="https://www.facebook.com/high5lg/">Click here</a></span> to view their FaceBook page.
LOCATION:High 5 Lanes & Games 4850 BettPlex Drive Bettendorf\, Iowa 52722
UID:e.2843.13263
SEQUENCE:3
DTSTAMP:20260423T105951Z
URL:https://member.quadcitieschamber.com/events/details/ribbon-cutting-high-5-lanes-games-13263
END:VEVENT

END:VCALENDAR
