BEGIN:VCALENDAR
VERSION:2.0
PRODID:-//ChamberMaster//Event Calendar 2.0//EN
METHOD:PUBLISH
X-PUBLISHED-TTL:P3D
REFRESH-INTERVAL:P3D
CALSCALE:GREGORIAN
BEGIN:VEVENT
DTSTART:20140618T210000Z
DTEND:20140618T220000Z
X-MICROSOFT-CDO-ALLDAYEVENT:FALSE
SUMMARY:Ribbon Cutting - Holiday Inn Express Moline-Quad Cities
DESCRIPTION:Holiday Inn Express Moline -Quad Cities  will host a ribbon cutting ceremony to celebrate the grand opening of their new location on Wednesday\, June 18th at 4pm.  The new hotel will feature 100 upscale rooms\, 10 suites\, state of the art fitness room\, social hub with fireplace\, free smart start breakfast and free Wi-Fi. They are now taking reservations for  arrivals on or after June 20th. If you would like more information\, please click here.
X-ALT-DESC;FMTTYPE=text/html:<DIV style="FONT-FAMILY: Arial"><P style="MARGIN: 0in 0in 0pt" class=MsoNormal><FONT face=Calibri>Holiday Inn Express Moline -Quad Cities <SPAN style="mso-spacerun: yes">&nbsp\;</SPAN>will host a ribbon cutting ceremony to celebrate the grand opening of their new location on Wednesday\, June 18<SUP>th</SUP> at 4pm. <?xml:namespace prefix = o ns = "urn:schemas-microsoft-com:office:office" /><o:p></o:p></FONT></P><P style="MARGIN: 0in 0in 0pt" class=MsoNormal><o:p><FONT face=Calibri>&nbsp\;</FONT></o:p></P><P style="MARGIN: 0in 0in 0pt" class=MsoNormal><FONT face=Calibri>The new hotel will feature 100 upscale rooms\, 10 suites\, state of the art fitness room\, social hub with fireplace\, free smart start breakfast and free Wi-Fi. They are now taking reservations for<SPAN style="mso-spacerun: yes">&nbsp\; </SPAN>arrivals on or after June 20<SUP>th</SUP>. <o:p></o:p></FONT></P><P style="MARGIN: 0in 0in 0pt" class=MsoNormal><FONT face=Calibri>If you would like more information\, please </FONT><A href="http://www.ihg.com/holidayinnexpress/hotels/us/en/moline/mlike/hoteldetail"><FONT color=#0000ff face="Times New Roman">click here</FONT></A><FONT face=Calibri>.<SPAN style="mso-spacerun: yes">&nbsp\; </SPAN></FONT><o:p></o:p></P></DIV>
LOCATION:Holiday Inn Express Moline-Quad Cities2100 69th Ave. Moline\, IL 61265
UID:e.2843.807
SEQUENCE:3
DTSTAMP:20260422T111506Z
URL:https://member.quadcitieschamber.com/events/details/ribbon-cutting-holiday-inn-express-moline-quad-cities-06-18-2014-807
END:VEVENT

END:VCALENDAR
