BEGIN:VCALENDAR
VERSION:2.0
PRODID:-//ChamberMaster//Event Calendar 2.0//EN
METHOD:PUBLISH
X-PUBLISHED-TTL:P3D
REFRESH-INTERVAL:P3D
CALSCALE:GREGORIAN
BEGIN:VEVENT
DTSTART:20190730T220000Z
DTEND:20190731T000000Z
X-MICROSOFT-CDO-ALLDAYEVENT:FALSE
SUMMARY:Ribbon Cutting - Home2Suites by Hilton
DESCRIPTION:Home2Suites by Hilton will host a ribbon cutting ceremony on Tuesday\, July 30 at 5:00 pm to celebrate their Grand Opening. An Open House will take place from 4:00 pm   7:00 pm. Drinks & Hors d'oeuvres will be served.
X-ALT-DESC;FMTTYPE=text/html:<br />\nHome2Suites by Hilton will host a ribbon cutting ceremony on Tuesday\, July 30 at 5:00 pm to celebrate their Grand Opening. An Open House will take place from 4:00 pm &ndash\; 7:00 pm. Drinks &amp\; Hors d&rsquo\;oeuvres will be served.
LOCATION:975 Utica Ridge Place Bettendorf\, IA 52722
UID:e.2843.15468
SEQUENCE:3
DTSTAMP:20260422T113540Z
URL:https://member.quadcitieschamber.com/events/details/ribbon-cutting-home2suites-by-hilton-15468
END:VEVENT

END:VCALENDAR
