BEGIN:VCALENDAR
VERSION:2.0
PRODID:-//ChamberMaster//Event Calendar 2.0//EN
METHOD:PUBLISH
X-PUBLISHED-TTL:P3D
REFRESH-INTERVAL:P3D
CALSCALE:GREGORIAN
BEGIN:VEVENT
DTSTART:20180111T223000Z
DTEND:20180112T000000Z
X-MICROSOFT-CDO-ALLDAYEVENT:FALSE
SUMMARY:Ribbon Cutting - Huiskamp Collins Investments\, LLC
DESCRIPTION:Huiskamp Collins Investments\, LLC\, 2009 Falcon Ave. Bettendorf\, IA 52722\, will host a ribbon cutting ceremony on Thursday\, January 11 at 4:30pm to celebrate their grand opening. An open house will follow.\n\n \n\nClick here to learn more about Huiskamp Collins Investments.
X-ALT-DESC;FMTTYPE=text/html:<span style="font-size:14px\;"><span style="font-family:arial\;">Huiskamp Collins Investments\, LLC\, 2009 Falcon Ave. Bettendorf\, IA 52722\, will host a ribbon cutting ceremony on Thursday\, January 11 at 4:30pm to celebrate their grand opening. An open house will follow.<br />\n&nbsp\;<br />\n<a href="https://www.hhcinvestments.net/about-us/">Click here</a> to learn more about Huiskamp Collins Investments.</span></span>
LOCATION:Huiskamp Collins Investments\, LLC 2009 Falcon Ave. Bettendorf\, IA 52722
UID:e.2843.9941
SEQUENCE:3
DTSTAMP:20260423T165729Z
URL:https://member.quadcitieschamber.com/events/details/ribbon-cutting-huiskamp-collins-investments-llc-9941
END:VEVENT

END:VCALENDAR
