BEGIN:VCALENDAR
VERSION:2.0
PRODID:-//ChamberMaster//Event Calendar 2.0//EN
METHOD:PUBLISH
X-PUBLISHED-TTL:P3D
REFRESH-INTERVAL:P3D
CALSCALE:GREGORIAN
BEGIN:VEVENT
DTSTART:20250715T213000Z
DTEND:20250715T223000Z
X-MICROSOFT-CDO-ALLDAYEVENT:FALSE
SUMMARY:Ribbon Cutting - Hy-Vee Health Exemplar Care - Davenport
DESCRIPTION:Hy-Vee Health Exemplar Care   Davenport will host a ribbon cutting on Tuesday\, July 15\, 2025 at 4:30 PM.  The Open House celebration will be from 4:00 PM to 6:00 PM.  The facility is located at 4255 Elmore Avenue in Davenport\, IA.\n\n \n\nAt Hy-Vee Health | Exemplar Care\, they make healthcare simple\, personal\, and accessible for everyone.\n\n	Members enjoy unlimited primary care\, same-day appointments\, and 24/7  access to a provider\, for one low monthly fee.\n	Non-members can walk in anytime for urgent care\, labs\, or minor procedures   no appointment needed.\n	They offer transparent pricing\, short wait times\, and providers who truly listen.\n	Whether you need a check-up\, care today\, or ongoing support   they're here for you.\n\nYour health. Your time. Your care reimagined.\n\n \n\nFor more information\, please visit Hy-Vee Health Exemplar Care
X-ALT-DESC;FMTTYPE=text/html:Hy-Vee Health Exemplar Care &ndash\; Davenport will host a ribbon cutting on Tuesday\, July 15\, 2025 at 4:30 PM.&nbsp\; The Open House celebration will be from 4:00 PM to 6:00 PM.&nbsp\; The facility is located at 4255 Elmore Avenue in Davenport\, IA.<br />\n&nbsp\;<br />\nAt Hy-Vee Health | Exemplar Care\, they make healthcare simple\, personal\, and accessible for everyone.\n<ul>\n	<li style="margin-left:0in\;">Members enjoy unlimited primary care\, same-day appointments\, and 24/7&nbsp\; access to a provider\, for one low monthly fee.</li>\n	<li style="margin-left:0in\;">Non-members can walk in anytime for urgent care\, labs\, or minor procedures &ndash\; no appointment needed.</li>\n	<li style="margin-left:0in\;">They offer transparent pricing\, short wait times\, and providers who truly listen.</li>\n	<li style="margin-left:0in\;">Whether you need a check-up\, care today\, or ongoing support &ndash\; they&rsquo\;re here for you.</li>\n</ul>\nYour health. Your time. Your care reimagined.<br />\n&nbsp\;<br />\nFor more information\, please visit <a href="https://member.quadcitieschamber.com/list/Member/hy-vee-health-exemplar-care-57610">Hy-Vee Health Exemplar Care</a><br />\n&nbsp\;
LOCATION:Hy-Vee Health Exemplar Care - Davenport 4255 Elmore Avenue Davenport\, IA 52807
UID:e.2843.23969
SEQUENCE:3
DTSTAMP:20260425T032406Z
URL:https://member.quadcitieschamber.com/events/details/ribbon-cutting-hy-vee-health-exemplar-care-davenport-23969
END:VEVENT

END:VCALENDAR
