BEGIN:VCALENDAR
VERSION:2.0
PRODID:-//ChamberMaster//Event Calendar 2.0//EN
METHOD:PUBLISH
X-PUBLISHED-TTL:P3D
REFRESH-INTERVAL:P3D
CALSCALE:GREGORIAN
BEGIN:VEVENT
DTSTART:20181214T210000Z
DTEND:20181214T213000Z
X-MICROSOFT-CDO-ALLDAYEVENT:FALSE
SUMMARY:Ribbon Cutting - Hyatt Place/Hyatt House E. Moline Quad Cities
DESCRIPTION:Hyatt Place/Hyatt House East Moline Quad Cities will hold a ribbon cutting ceremony on Friday\, December 14th at 3:00 pm\, to celebrate their grand opening.
X-ALT-DESC;FMTTYPE=text/html:Hyatt Place/Hyatt House East Moline Quad Cities will hold a ribbon cutting ceremony on Friday\, December 14<sup>th</sup> at 3:00 pm\, to celebrate their grand opening.
LOCATION:111 Bend Blvd. East Moline\, IL 61244
UID:e.2843.13540
SEQUENCE:3
DTSTAMP:20260422T234535Z
URL:https://member.quadcitieschamber.com/events/details/ribbon-cutting-hyatt-place-hyatt-house-e-moline-quad-cities-13540
END:VEVENT

END:VCALENDAR
