BEGIN:VCALENDAR
VERSION:2.0
PRODID:-//ChamberMaster//Event Calendar 2.0//EN
METHOD:PUBLISH
X-PUBLISHED-TTL:P3D
REFRESH-INTERVAL:P3D
CALSCALE:GREGORIAN
BEGIN:VEVENT
DTSTART:20200131T220000Z
DTEND:20200131T223000Z
X-MICROSOFT-CDO-ALLDAYEVENT:FALSE
SUMMARY:Ribbon Cutting - IDLife
DESCRIPTION:IDLife will host a ribbon cutting on Friday\, January 31st at 4:00 pm to celebrate their Grand Opening. Snacks and beverages will be provided.\n\n\n\nIDLife is a DNA specific weight loss movement designed to help people do life better while honoring the uniqueness of all individuals. They offer DNA specific supplements along with counseling support. Personal data is never shared.
X-ALT-DESC;FMTTYPE=text/html:<span style="font-size:16px\;"><span style="font-family:arial\;">IDLife will host a ribbon cutting on Friday\, January 31st at 4:00 pm to celebrate their Grand Opening. Snacks and beverages will be provided.<br />\n<br />\nIDLife is a DNA specific weight loss movement designed to help people do life better while honoring the uniqueness of all individuals. They offer DNA specific supplements along with counseling support. Personal data is never shared.</span></span>
LOCATION:3841 Utica Ridge Road Bettendorf\, IA 52748
UID:e.2843.17470
SEQUENCE:3
DTSTAMP:20260422T015107Z
URL:https://member.quadcitieschamber.com/events/details/ribbon-cutting-idlife-17470
END:VEVENT

END:VCALENDAR
