BEGIN:VCALENDAR
VERSION:2.0
PRODID:-//ChamberMaster//Event Calendar 2.0//EN
METHOD:PUBLISH
X-PUBLISHED-TTL:P3D
REFRESH-INTERVAL:P3D
CALSCALE:GREGORIAN
BEGIN:VEVENT
DTSTART:20181211T160000Z
DTEND:20181211T163000Z
X-MICROSOFT-CDO-ALLDAYEVENT:FALSE
SUMMARY:Ribbon Cutting - IH Mississippi Valley Credit Union
DESCRIPTION:IH Mississippi Valley Credit Union will host a ribbon cutting ceremony on Tuesday\, December 4th at 10:00 am\, to celebrate their new location.
X-ALT-DESC;FMTTYPE=text/html:IH Mississippi Valley Credit Union will host a ribbon cutting ceremony on Tuesday\, December 4<sup>th</sup> at 10:00 am\, to celebrate their new location.
LOCATION:4051 Avenue of the Cities Moline\, IL 61265 Located on the corner of Avenue of the Cities & 41st Street.
UID:e.2843.13539
SEQUENCE:3
DTSTAMP:20260422T234623Z
URL:https://member.quadcitieschamber.com/events/details/ribbon-cutting-ih-mississippi-valley-credit-union-13539
END:VEVENT

END:VCALENDAR
