BEGIN:VCALENDAR
VERSION:2.0
PRODID:-//ChamberMaster//Event Calendar 2.0//EN
METHOD:PUBLISH
X-PUBLISHED-TTL:P3D
REFRESH-INTERVAL:P3D
CALSCALE:GREGORIAN
BEGIN:VEVENT
DTSTART:20190614T193000Z
DTEND:20190614T200000Z
X-MICROSOFT-CDO-ALLDAYEVENT:FALSE
SUMMARY:Ribbon Cutting - Imperial Stone
DESCRIPTION:Imperial Stone will host a ribbon cutting ceremony on Friday\, June 14\, at 2:30 pm to celebrate their first Quad Cities location!\n\n\n\nAn Open House will take place from 3:00 pm   6:00 pm. Beverages and snacks will be available.
X-ALT-DESC;FMTTYPE=text/html:<br />\nImperial Stone will host a ribbon cutting ceremony on Friday\, June 14\, at 2:30 pm to celebrate their first Quad Cities location!<br />\n<br />\nAn Open House will take place from 3:00 pm &ndash\; 6:00 pm. Beverages and snacks will be available.
LOCATION:2222 E. 53rd Street\, Suite 2 Davenport\, IA 52807
UID:e.2843.15405
SEQUENCE:3
DTSTAMP:20260422T131235Z
URL:https://member.quadcitieschamber.com/events/details/ribbon-cutting-imperial-stone-15405
END:VEVENT

END:VCALENDAR
