BEGIN:VCALENDAR
VERSION:2.0
PRODID:-//ChamberMaster//Event Calendar 2.0//EN
METHOD:PUBLISH
X-PUBLISHED-TTL:P3D
REFRESH-INTERVAL:P3D
CALSCALE:GREGORIAN
BEGIN:VEVENT
DTSTART:20190502T220000Z
DTEND:20190502T223000Z
X-MICROSOFT-CDO-ALLDAYEVENT:FALSE
SUMMARY:Ribbon Cutting - Iowa Cancer Specialists\, P.C.
DESCRIPTION:Iowa Cancer Specialists\, P.C. will be hosting a ribbon cutting ceremony on Thursday\, May 2nd. Light refreshments will be provided after the ceremony.
X-ALT-DESC;FMTTYPE=text/html:Iowa Cancer Specialists\, P.C. will be hosting a ribbon cutting ceremony on Thursday\, May 2nd. Light refreshments will be provided after the ceremony.
LOCATION:1750 E. 53rd Street Davenport\, IA 52807 They are located off of 53rd & Eastern Avenue\, on a private drive between E. 53rd & E. 54th Streets.
UID:e.2843.14329
SEQUENCE:3
DTSTAMP:20260422T164329Z
URL:https://member.quadcitieschamber.com/events/details/ribbon-cutting-iowa-cancer-specialists-p-c-14329
END:VEVENT

END:VCALENDAR
