BEGIN:VCALENDAR
VERSION:2.0
PRODID:-//ChamberMaster//Event Calendar 2.0//EN
METHOD:PUBLISH
X-PUBLISHED-TTL:P3D
REFRESH-INTERVAL:P3D
CALSCALE:GREGORIAN
BEGIN:VEVENT
DTSTART:20181101T150000Z
DTEND:20181101T153000Z
X-MICROSOFT-CDO-ALLDAYEVENT:FALSE
SUMMARY:Ribbon Cutting - Jason Goff State Farm
DESCRIPTION:Jason Goff State Farm will be hosting a ribbon cutting ceremony on Thursday\, November 1 at 10:00 am. to celebrate their new insurance business.
X-ALT-DESC;FMTTYPE=text/html:Jason Goff State Farm will be hosting a ribbon cutting ceremony on Thursday\, November 1 at 10:00 am. to celebrate their new insurance business.
LOCATION:2450 53rd Street Moline\, IL 61265
UID:e.2843.13525
SEQUENCE:3
DTSTAMP:20260423T013518Z
URL:https://member.quadcitieschamber.com/events/details/ribbon-cutting-jason-goff-state-farm-13525
END:VEVENT

END:VCALENDAR
