BEGIN:VCALENDAR
VERSION:2.0
PRODID:-//ChamberMaster//Event Calendar 2.0//EN
METHOD:PUBLISH
X-PUBLISHED-TTL:P3D
REFRESH-INTERVAL:P3D
CALSCALE:GREGORIAN
BEGIN:VEVENT
DTSTART:20171110T190000Z
DTEND:20171110T193000Z
X-MICROSOFT-CDO-ALLDAYEVENT:FALSE
SUMMARY:Ribbon Cutting - John Deere Store
DESCRIPTION:John Deere Store\, 1300 River Dr. Moline\, IL 61265\, will host a ribbon cutting ceremony and sneak peek media event on Friday\, November 10 at 1:00pm to celebrate their complete renovation.  \n\nA larger community event will take place on Saturday\, November 11 10am-2pm.\n\n \n\nAbout the Saturday\, November 11th Grand Re-opening Event: \n\nThe John Deere Store is undergoing final touches of a multi-phased makeover and will celebrate its reopening with free John Deere hats to the first 100 shoppers\, while the first 50 kids (16 years of age and younger) will receive a free 1/64 scale John Deere toy. Doors will open for the celebration at 10 a.m. on Saturday\, Nov. 11.\n\n\n\nOther reopening highlights include a photo booth to capture the fun\, free hot cocoa and cookies\, and an outdoor track where kids can ride a battery-operated John Deere Gator. In honor of the Pavilion and Store's 20-year anniversary\, roll-back pricing will be offered on select items including hats\, t-shirts\, and toys.  These products will be priced as they were when the store first opened in 1997. Also throughout the day\, 300 guests will receive a scratch off coupon worth 10\, 20 or 30 percent off purchases at the John Deere Store and visitors can enter raffles for stake wagons\, games and a John Deere Gator. \n\n \n\n**John Deere Store is located adjacent to the John Deere Pavilion on River Drive in Moline.
X-ALT-DESC;FMTTYPE=text/html:<span style="font-size:14px\;"><span style="font-family:arial\;">John Deere Store\, 1300 River Dr. Moline\, IL 61265\, will host a ribbon cutting ceremony and sneak peek media event on Friday\, November 10 at 1:00pm to celebrate their complete renovation. &nbsp\;<br />\nA larger community event will take place on Saturday\, November 11 10am-2pm.<br />\n&nbsp\;<br />\n<strong><u>About the Saturday\, November 11<sup>th</sup> Grand Re-opening Event: </u></strong><br />\n<span style="border:1pt none windowtext\;padding:0in\;background-image:initial\;background-position:initial\;background-size:initial\;background-repeat:initial\;background-attachment:initial\;background-origin:initial\;background-clip:initial\;"><span style="color:#273238\;">The John Deere Store is undergoing final touches of a multi-phased makeover and will celebrate its reopening with free John Deere hats to the first 100 shoppers\, while the first 50 kids (16 years of age and younger) will receive a free 1/64 scale John Deere toy. Doors will open for the celebration at 10 a.m. on Saturday\, Nov. 11.<br />\n<br />\nOther reopening highlights include a photo booth to capture the fun\, free hot cocoa and cookies\, and an outdoor track where kids can ride a battery-operated John Deere Gator. In honor of the Pavilion and Store&rsquo\;s 20-year anniversary\, roll-back pricing will be offered on select items including hats\, t-shirts\, and toys.&nbsp\; These products will be priced as they were when the store first opened in 1997.&nbsp\;Also throughout the day\, 300 guests will receive a scratch off coupon worth 10\, 20 or 30 percent off purchases at the John Deere Store and visitors can enter raffles for stake wagons\, games and a John Deere Gator.&nbsp\;</span></span><br />\n&nbsp\;<br />\n<strong><span style="border:1pt none windowtext\;padding:0in\;background-image:initial\;background-position:initial\;background-size:initial\;background-repeat:initial\;background-attachment:initial\;background-origin:initial\;background-clip:initial\;"><span style="color:#273238\;">**John Deere Store is located adjacent to the John Deere Pavilion on River Drive in Moline.&nbsp\;</span></span></strong></span></span>
LOCATION:John Deere Store 1300 River Dr. Moline\, IL 61265
UID:e.2843.8812
SEQUENCE:3
DTSTAMP:20260423T210116Z
URL:https://member.quadcitieschamber.com/events/details/ribbon-cutting-john-deere-store-8812
END:VEVENT

END:VCALENDAR
