BEGIN:VCALENDAR
VERSION:2.0
PRODID:-//ChamberMaster//Event Calendar 2.0//EN
METHOD:PUBLISH
X-PUBLISHED-TTL:P3D
REFRESH-INTERVAL:P3D
CALSCALE:GREGORIAN
BEGIN:VEVENT
DTSTART:20170925T180000Z
DTEND:20170925T183000Z
X-MICROSOFT-CDO-ALLDAYEVENT:FALSE
SUMMARY:Ribbon Cutting - Junior Theatre
DESCRIPTION:Junior Theatre\, 2822 Eastern Ave. Davenport\, IA 52803\, will host a ribbon cutting ceremony on Monday\, September 25 at 1:00pm to celebrate their completed theatre renovation. Tours and refreshments will follow the ribbon cutting ceremony.\n\n \n\n**Located at the Annie Wittenmeyer complex.\n\n \n\nAbout Junior Theatre: \n\nFounded in 1951\, Davenport Junior Theatre is the second oldest children's theatre in America. With over 1\,700 enrollments last year\, kids from 30 different cities and towns in the region participated. They believe every kid deserves to learn to communicate clearly\, confidently and creatively to succeed in life. To do this\, they provide the highest quality theatrical & dance recreational experience. They are also a rental venue used by over 15 different organizations throughout the year.
X-ALT-DESC;FMTTYPE=text/html:<span style="font-size:14px\;"><span style="font-family:arial\;">Junior Theatre\, 2822 Eastern Ave. Davenport\, IA 52803\, will host a ribbon cutting ceremony on Monday\, September 25 at 1:00pm to celebrate their completed theatre renovation. Tours and refreshments will follow the ribbon cutting ceremony.<br />\n&nbsp\;<br />\n**Located at the Annie Wittenmeyer complex.<br />\n&nbsp\;<br />\n<u><strong>About Junior Theatre:&nbsp\;</strong></u><br />\nFounded in 1951\, Davenport Junior Theatre is the second oldest children&#39\;s theatre in America. With over 1\,700 enrollments last year\, kids from 30 different cities and towns in the region participated. They believe every kid deserves to learn to communicate clearly\, confidently and creatively to succeed in life. To do this\, they provide the highest quality theatrical &amp\; dance recreational experience. They are also a rental venue used by over 15 different organizations throughout the year.</span></span>
LOCATION:Junior Theatre 2822 Eastern Ave. Davenport\, IA 52803 *Located in the Annie Wittenmeyer complex
UID:e.2843.8544
SEQUENCE:3
DTSTAMP:20260423T221322Z
URL:https://member.quadcitieschamber.com/events/details/ribbon-cutting-junior-theatre-8544
END:VEVENT

END:VCALENDAR
