BEGIN:VCALENDAR
VERSION:2.0
PRODID:-//ChamberMaster//Event Calendar 2.0//EN
METHOD:PUBLISH
X-PUBLISHED-TTL:P3D
REFRESH-INTERVAL:P3D
CALSCALE:GREGORIAN
BEGIN:VEVENT
DTSTART:20190325T190000Z
DTEND:20190325T193000Z
X-MICROSOFT-CDO-ALLDAYEVENT:FALSE
SUMMARY:Ribbon Cutting - LandJet
DESCRIPTION:LandJet will be hosting a ribbon cutting ceremony at 2:00 pm to celebrate their new business.
X-ALT-DESC;FMTTYPE=text/html:LandJet will be hosting a ribbon cutting ceremony at 2:00 pm to celebrate their new business.
LOCATION:1601 River Drive Moline\, IL 61265 PLEASE NOTE: This ribbon cutting ceremony will take place outside of the Moline Quad Cities Chamber Office at the address listed above. Please gather inside the first floor lobby of the building. LandJet will park their vehicles in the front of the building and the ceremony will take place as soon as everyone has arrived.
UID:e.2843.13812
SEQUENCE:3
DTSTAMP:20260422T195642Z
URL:https://member.quadcitieschamber.com/events/details/ribbon-cutting-landjet-13812
END:VEVENT

END:VCALENDAR
