BEGIN:VCALENDAR
VERSION:2.0
PRODID:-//ChamberMaster//Event Calendar 2.0//EN
METHOD:PUBLISH
X-PUBLISHED-TTL:P3D
REFRESH-INTERVAL:P3D
CALSCALE:GREGORIAN
BEGIN:VEVENT
DTSTART:20191104T210000Z
DTEND:20191104T213000Z
X-MICROSOFT-CDO-ALLDAYEVENT:FALSE
SUMMARY:Ribbon Cutting - LillyPad Boutique
DESCRIPTION:LillyPad Boutique will host a ribbon cutting on Monday\, November 4 at 3:00 pm.\n\n\n\nAn Open House will take place from 3:00 p.m. to 5:00 p.m. Beverages and snacks will be served.
X-ALT-DESC;FMTTYPE=text/html:<span style="font-size:16px\;"><span style="font-family:arial\;">LillyPad Boutique will host a ribbon cutting on Monday\, November 4 at 3:00 pm.<br />\n<br />\nAn Open House will take place from 3:00 p.m. to 5:00 p.m. Beverages and snacks will be served.</span></span>
LOCATION:2225 W. 53rd Street\, Suite 300 Davenport\, IA 52806
UID:e.2843.16919
SEQUENCE:3
DTSTAMP:20260422T083229Z
URL:https://member.quadcitieschamber.com/events/details/ribbon-cutting-lillypad-boutique-16919
END:VEVENT

END:VCALENDAR
