BEGIN:VCALENDAR
VERSION:2.0
PRODID:-//ChamberMaster//Event Calendar 2.0//EN
METHOD:PUBLISH
X-PUBLISHED-TTL:P3D
REFRESH-INTERVAL:P3D
CALSCALE:GREGORIAN
BEGIN:VEVENT
DTSTART:20200103T213000Z
DTEND:20200103T220000Z
X-MICROSOFT-CDO-ALLDAYEVENT:FALSE
SUMMARY:Ribbon Cutting - Mark Twain Elementary School Grand Opening
DESCRIPTION:Mark Twain Elementary  School will hold a ribbon cutting on Friday\, January 3 at 3:30 pm to celebrate the Grand Opening of their new school. \n\n\n\nOpen House to follow. Refreshments and tours of the facility will be available.\n\n \n\nThe $16.5 million dollar project will replace the current school and bring a brand new look to the site. The school will be the new home to students from the old Mark Twain Elementary and Thomas Jefferson Elementary schools in Bettendorf.
X-ALT-DESC;FMTTYPE=text/html:<span style="font-size:16px\;"><span style="font-family:arial\;">Mark Twain Elementary&nbsp\; School will hold a ribbon cutting on Friday\, January 3 at 3:30 pm to celebrate the Grand Opening of their new school.&nbsp\;<br />\n<br />\nOpen House to follow. Refreshments and tours of the facility will be available.<br />\n&nbsp\;<br />\nThe $16.5 million dollar project will replace the current school and bring a brand new look to the site. The school will be the new home to students from the old Mark Twain Elementary and Thomas Jefferson Elementary schools in Bettendorf.</span></span>
LOCATION:1620 Lincoln Road Bettendorf\, IA 52722
UID:e.2843.16954
SEQUENCE:3
DTSTAMP:20260422T015339Z
URL:https://member.quadcitieschamber.com/events/details/ribbon-cutting-mark-twain-elementary-school-grand-opening-16954
END:VEVENT

END:VCALENDAR
