BEGIN:VCALENDAR
VERSION:2.0
PRODID:-//ChamberMaster//Event Calendar 2.0//EN
METHOD:PUBLISH
X-PUBLISHED-TTL:P3D
REFRESH-INTERVAL:P3D
CALSCALE:GREGORIAN
BEGIN:VEVENT
DTSTART:20180921T150000Z
DTEND:20180921T160000Z
X-MICROSOFT-CDO-ALLDAYEVENT:FALSE
SUMMARY:Ribbon Cutting - Massage Envy
DESCRIPTION:Message Envy Davenport will be hosting a Business Expansion Celebration on Friday\, September 21 at 10:00 am.
X-ALT-DESC;FMTTYPE=text/html:Message Envy Davenport will be hosting a Business Expansion Celebration on Friday\, September 21 at 10:00 am.
LOCATION:5302 Elmore Avenue Davenport\, IA 52807
UID:e.2843.13475
SEQUENCE:3
DTSTAMP:20260423T043326Z
URL:https://member.quadcitieschamber.com/events/details/ribbon-cutting-massage-envy-13475
END:VEVENT

END:VCALENDAR
