BEGIN:VCALENDAR
VERSION:2.0
PRODID:-//ChamberMaster//Event Calendar 2.0//EN
METHOD:PUBLISH
X-PUBLISHED-TTL:P3D
REFRESH-INTERVAL:P3D
CALSCALE:GREGORIAN
BEGIN:VEVENT
DTSTART:20250603T160000Z
DTEND:20250603T170000Z
X-MICROSOFT-CDO-ALLDAYEVENT:FALSE
SUMMARY:Ribbon Cutting - Medi Weightloss
DESCRIPTION:Medi Weightloss will host a ribbon cutting to celebrate their new business on Tuesday\, June 3\, 2025 at 11:00 AM.  The business is located at 5359 Eastern Avenue in Davenport\, IA.\n\n \n\nMedically supervised Weightloss and Wellness. We offer customized nutrition plans and medications to help patients achieve their goals!\n\n \n\nFor more information\, please visit Medi Weightloss
X-ALT-DESC;FMTTYPE=text/html:Medi Weightloss will host a ribbon cutting to celebrate their new business on Tuesday\, June 3\, 2025 at 11:00 AM.&nbsp\; The business is located at 5359 Eastern Avenue in Davenport\, IA.<br />\n&nbsp\;<br />\n<span style="background:white\;"><span style="color:#273238\;"><span style="font-family:arial\,sans-serif\;">Medically supervised Weightloss and Wellness. We offer customized nutrition plans and medications to help patients achieve their goals!</span></span></span><br />\n&nbsp\;<br />\n<span style="background:white\;"><span style="color:#273238\;"><span style="font-family:arial\,sans-serif\;">For more information\, please visit <a href="https://mediweightloss.com/weight-loss-clinic/davenport/">Medi Weightloss</a></span></span></span><br />\n&nbsp\;<br />\n&nbsp\;
LOCATION:Medi Weightloss 5359 Eastern Avenue Davenport\, IA 52807
UID:e.2843.23706
SEQUENCE:3
DTSTAMP:20260426T020044Z
URL:https://member.quadcitieschamber.com/events/details/ribbon-cutting-medi-weightloss-23706
END:VEVENT

END:VCALENDAR
