BEGIN:VCALENDAR
VERSION:2.0
PRODID:-//ChamberMaster//Event Calendar 2.0//EN
METHOD:PUBLISH
X-PUBLISHED-TTL:P3D
REFRESH-INTERVAL:P3D
CALSCALE:GREGORIAN
BEGIN:VEVENT
DTSTART:20180614T140000Z
DTEND:20180614T143000Z
X-MICROSOFT-CDO-ALLDAYEVENT:FALSE
SUMMARY:Ribbon Cutting - Mediacom
DESCRIPTION:Mediacom will host a ribbon cutting ceremony on Thursday\, June 14 at 9:00am to celebrate the grand opening of their new retail store located at 900 W. Kimberly Rd. Davenport\, IA 52806.
X-ALT-DESC;FMTTYPE=text/html:<br />\n<span style="font-family:arial\,sans-serif\;">Mediacom will host a ribbon cutting ceremony on Thursday\, June 14 at 9:00am to celebrate the grand opening of their new retail store located at 900 W. Kimberly Rd. Davenport\, IA 52806. </span>
LOCATION:Mediacom 900 W. Kimberly Rd. Davenport\, IA 52806
UID:e.2843.13276
SEQUENCE:3
DTSTAMP:20260423T092030Z
URL:https://member.quadcitieschamber.com/events/details/ribbon-cutting-mediacom-13276
END:VEVENT

END:VCALENDAR
