BEGIN:VCALENDAR
VERSION:2.0
PRODID:-//ChamberMaster//Event Calendar 2.0//EN
METHOD:PUBLISH
X-PUBLISHED-TTL:P3D
REFRESH-INTERVAL:P3D
CALSCALE:GREGORIAN
BEGIN:VEVENT
DTSTART:20190529T130000Z
DTEND:20190529T133000Z
X-MICROSOFT-CDO-ALLDAYEVENT:FALSE
SUMMARY:Ribbon Cutting - MetroLINK
DESCRIPTION:MetroLINK will host a ceremony on Wednesday\, May 29 to celebrate the introduction of 5 additional battery electric buses to their fleet.  The event will be held at MetroLINK's Operations and Maintenance Center in Rock Island
X-ALT-DESC;FMTTYPE=text/html:<br />\n<span style="font-family:calibri\,sans-serif\;"><span style="font-size:11.0pt\;"><span style="font-family:arial\;"><span style="font-size:14px\;">MetroLINK will host a ceremony on Wednesday\, May 29 to celebrate the introduction of 5 additional battery electric buses to their fleet.&nbsp\; The event will be held at MetroLINK&rsquo\;s Operations and Maintenance Center in Rock Island</span></span></span></span>
LOCATION:4501 4th Avenue Rock Island\, IL 61233 The event will be held at MetroLINK's Operations and Maintenance Center in Rock Island
UID:e.2843.15369
SEQUENCE:3
DTSTAMP:20260422T163834Z
URL:https://member.quadcitieschamber.com/events/details/ribbon-cutting-metrolink-15369
END:VEVENT

END:VCALENDAR
