BEGIN:VCALENDAR
VERSION:2.0
PRODID:-//ChamberMaster//Event Calendar 2.0//EN
METHOD:PUBLISH
X-PUBLISHED-TTL:P3D
REFRESH-INTERVAL:P3D
CALSCALE:GREGORIAN
BEGIN:VEVENT
DTSTART:20180416T190000Z
DTEND:20180416T193000Z
X-MICROSOFT-CDO-ALLDAYEVENT:FALSE
SUMMARY:Ribbon Cutting - MetroLINK battery-electric bus fleet (at SouthPark Mall)
DESCRIPTION:MetroLINK will host a ribbon cutting ceremony on Monday\, April 16 at 2:00pm to debut their 3 new battery-electric buses. The ribbon cutting will take place in the south JC Penney parking lot\n\nPhotos and video clips can be found at www.MetroQC.com/electricbus\n\n \n\nClick Here for a map of the ribbon cutting location at Southpark Mall \n\n\n\nClick Here for a fact sheet about the buses.
X-ALT-DESC;FMTTYPE=text/html:<span style="font-size:14px\;"><span style="font-family:arial\;">MetroLINK will host a ribbon cutting ceremony on Monday\, April 16 at 2:00pm to debut their 3 new battery-electric buses. The ribbon cutting will take place in the south JC Penney parking lot<br />\nPhotos and video clips can be found at <a href="http://www.MetroQC.com/electricbus">www.MetroQC.com/electricbus<br />\n&#8203\;</a><br />\n<a href="https://chambermaster.blob.core.windows.net/userfiles/UserFiles/chambers/2843/File/SPMap.jpg">Click Here</a> for a map of the ribbon cutting location at Southpark Mall&nbsp\;<br />\n<br />\n<a href="https://chambermaster.blob.core.windows.net/userfiles/UserFiles/chambers/2843/File/factsheetscanned.pdf">Click Here</a> for a fact sheet about the buses.&nbsp\;</span></span>
LOCATION:Southpark Mall - South JCPenney Parking Lot
UID:e.2843.12130
SEQUENCE:3
DTSTAMP:20260423T123637Z
URL:https://member.quadcitieschamber.com/events/details/ribbon-cutting-metrolink-battery-electric-bus-fleet-at-southpark-mall-12130
END:VEVENT

END:VCALENDAR
