BEGIN:VCALENDAR
VERSION:2.0
PRODID:-//ChamberMaster//Event Calendar 2.0//EN
METHOD:PUBLISH
X-PUBLISHED-TTL:P3D
REFRESH-INTERVAL:P3D
CALSCALE:GREGORIAN
BEGIN:VEVENT
DTSTART:20190726T193000Z
DTEND:20190726T200000Z
X-MICROSOFT-CDO-ALLDAYEVENT:FALSE
SUMMARY:Ribbon Cutting - Moe's Southwest Grill
DESCRIPTION:Moe's Southwest Grill will host a ribbon cutting ceremony on Friday\, July 26 at 2:30 pm.
X-ALT-DESC;FMTTYPE=text/html:Moe&rsquo\;s Southwest Grill will host a ribbon cutting ceremony on Friday\, July 26 at 2:30 pm.
LOCATION:3934 16th Street Moline\, IL 61265 Located on the corner of John Deere Road & 16th Street
UID:e.2843.15483
SEQUENCE:3
DTSTAMP:20260422T114010Z
URL:https://member.quadcitieschamber.com/events/details/ribbon-cutting-moe-s-southwest-grill-15483
END:VEVENT

END:VCALENDAR
