BEGIN:VCALENDAR
VERSION:2.0
PRODID:-//ChamberMaster//Event Calendar 2.0//EN
METHOD:PUBLISH
X-PUBLISHED-TTL:P3D
REFRESH-INTERVAL:P3D
CALSCALE:GREGORIAN
BEGIN:VEVENT
DTSTART:20190424T180000Z
DTEND:20190424T183000Z
X-MICROSOFT-CDO-ALLDAYEVENT:FALSE
SUMMARY:Ribbon Cutting - Motherhood Matters
DESCRIPTION:Motherhood Matters will host a ribbon cutting ceremony on Wednesday\, April 24 at 1:00 pm to celebrate their new business.
X-ALT-DESC;FMTTYPE=text/html:<span style="font-family:calibri\,sans-serif\;"><span style="font-size:11.0pt\;">Motherhood Matters will host a ribbon cutting ceremony on Wednesday\, April 24 at 1:00 pm to celebrate their new business.&nbsp\;</span></span>
LOCATION:2010 E. 38th Street Davenport\, IA They are located on the corner of 38th Street and Spring. One block north of Fresh Thyme Market
UID:e.2843.14291
SEQUENCE:3
DTSTAMP:20260422T164119Z
URL:https://member.quadcitieschamber.com/events/details/ribbon-cutting-motherhood-matters-14291
END:VEVENT

END:VCALENDAR
