BEGIN:VCALENDAR
VERSION:2.0
PRODID:-//ChamberMaster//Event Calendar 2.0//EN
METHOD:PUBLISH
X-PUBLISHED-TTL:P3D
REFRESH-INTERVAL:P3D
CALSCALE:GREGORIAN
BEGIN:VEVENT
DTSTART:20140502T180000Z
DTEND:20140502T183000Z
X-MICROSOFT-CDO-ALLDAYEVENT:FALSE
SUMMARY:Ribbon Cutting - MSA Professional Services Inc.
DESCRIPTION:Please join MSA Professional Services Inc.\, located at 2117 State Street\, Suite 200 Bettendorf\, IA\, as they celebrate the relocation of their new office on Friday\, May 2nd.  http://mapq.st/1pL2Jwx  MSA Professional Services is a multidisciplinary consulting firm focused on improving communities in Wisconsin\, Minnesota\, Illinois and Iowa. Their firm consists of engineers\, architects\, planners\, funding experts\, surveyors\, GIS specialists and environmental scientists.   MSA will host an open house from 11:30am - 2:00pm. Lunch will be provided during this time. The Quad Cities Chamber of Commerce will be present for a ribbon cutting ceremony at 1:00pm.  For more information\, please visit www.msa-ps.com.
X-ALT-DESC;FMTTYPE=text/html:<FONT face=Calibri><SPAN style="FONT-FAMILY: 'Calibri'\,'sans-serif'\; FONT-SIZE: 11pt\; mso-fareast-font-family: 'Times New Roman'\; mso-bidi-font-family: 'Times New Roman'\; mso-ansi-language: EN-US\; mso-fareast-language: EN-US\; mso-bidi-language: AR-SA"><P style="MARGIN: 0in 0in 0pt" class=MsoNormal><P style="MARGIN: 0in 0in 0pt" class=MsoNormal></P></SPAN></FONT><FONT face=Calibri><P style="MARGIN: 0in 0in 0pt" class=MsoNormal>Please join MSA Professional Services Inc.\, located at 2117 State Street\, Suite 200 Bettendorf\, IA\, as they celebrate the relocation of their new office on Friday\, May 2<SUP>nd</SUP>.<SPAN style="mso-spacerun: yes">&nbsp\; </SPAN><A href="http://mapq.st/1pL2Jwx"><FONT color=#0000ff face="Times New Roman">http://mapq.st/1pL2Jwx</FONT></A> <?xml:namespace prefix = o ns = "urn:schemas-microsoft-com:office:office" /><o:p></o:p></P><P style="MARGIN: 0in 0in 0pt" class=MsoNormal><o:p>&nbsp\;</o:p></P><P style="MARGIN: 0in 0in 0pt" class=MsoNormal>MSA Professional Services is a multidisciplinary consulting firm focused on improving communities in Wisconsin\, Minnesota\, Illinois and Iowa. Their firm consists of engineers\, architects\, planners\, funding experts\, surveyors\, GIS specialists and environmental scientists.<SPAN style="mso-spacerun: yes">&nbsp\; </SPAN><o:p></o:p></P><P style="MARGIN: 0in 0in 0pt" class=MsoNormal><o:p>&nbsp\;</o:p></P><P style="MARGIN: 0in 0in 0pt" class=MsoNormal>MSA will host an open house from 11:30am&nbsp\;- 2:00pm. Lunch will be provided during this time. The Quad Cities Chamber of Commerce will be present for a ribbon cutting ceremony at 1:00pm.<SPAN style="mso-spacerun: yes">&nbsp\; </SPAN>For more information\, please visit <A href="http://www.msa-ps.com"><FONT color=#0000ff face="Times New Roman">www.msa-ps.com</FONT></A>.<o:p></o:p></P><P style="MARGIN: 0in 0in 0pt" class=MsoNormal><P></FONT></P><P></P>
LOCATION:MSA Professional Services2117 State St. Suite 200 Bettendorf\, IA 52722
UID:e.2843.793
SEQUENCE:3
DTSTAMP:20260422T110249Z
URL:https://member.quadcitieschamber.com/events/details/ribbon-cutting-msa-professional-services-inc-05-02-2014-793
END:VEVENT

END:VCALENDAR
