BEGIN:VCALENDAR
VERSION:2.0
PRODID:-//ChamberMaster//Event Calendar 2.0//EN
METHOD:PUBLISH
X-PUBLISHED-TTL:P3D
REFRESH-INTERVAL:P3D
CALSCALE:GREGORIAN
BEGIN:VEVENT
DTSTART:20181213T180000Z
DTEND:20181213T183000Z
X-MICROSOFT-CDO-ALLDAYEVENT:FALSE
SUMMARY:Ribbon Cutting - Natural Healing Davenport
DESCRIPTION:Natural Healing Davenport will be holding a ribbon cutting ceremony on Thursday\, December 13th at noon to celebrate their new business.
X-ALT-DESC;FMTTYPE=text/html:Natural Healing Davenport will be holding a ribbon cutting ceremony on Thursday\, December 13th at noon to celebrate their new business.
LOCATION:2824 W. Locust Street Davenport\, IA Located across from the Mississippi Valley Fairgrounds
UID:e.2843.13583
SEQUENCE:3
DTSTAMP:20260422T234406Z
URL:https://member.quadcitieschamber.com/events/details/ribbon-cutting-natural-healing-davenport-13583
END:VEVENT

END:VCALENDAR
