BEGIN:VCALENDAR
VERSION:2.0
PRODID:-//ChamberMaster//Event Calendar 2.0//EN
METHOD:PUBLISH
X-PUBLISHED-TTL:P3D
REFRESH-INTERVAL:P3D
CALSCALE:GREGORIAN
BEGIN:VEVENT
DTSTART:20181109T190000Z
DTEND:20181109T193000Z
X-MICROSOFT-CDO-ALLDAYEVENT:FALSE
SUMMARY:Ribbon Cutting - Nerds To Go
DESCRIPTION:Nerds To Go will be hosting a ribbon cutting ceremony on Friday\, November 9th.
X-ALT-DESC;FMTTYPE=text/html:Nerds To Go will be hosting a ribbon cutting ceremony on Friday\, November 9th.
LOCATION:2222 E. 53rd Street\, Suite 8 Davenport\, IA 52807
UID:e.2843.13545
SEQUENCE:3
DTSTAMP:20260423T025831Z
URL:https://member.quadcitieschamber.com/events/details/ribbon-cutting-nerds-to-go-13545
END:VEVENT

END:VCALENDAR
