BEGIN:VCALENDAR
VERSION:2.0
PRODID:-//ChamberMaster//Event Calendar 2.0//EN
METHOD:PUBLISH
X-PUBLISHED-TTL:P3D
REFRESH-INTERVAL:P3D
CALSCALE:GREGORIAN
BEGIN:VEVENT
DTSTART:20190429T153000Z
DTEND:20190429T160000Z
X-MICROSOFT-CDO-ALLDAYEVENT:FALSE
SUMMARY:Ribbon Cutting - New Perspective Senior Living
DESCRIPTION:New Perspective Senior Living will host a ribbon cutting ceremony on Monday\, April 29 at 10:30 am.\n\n \n\nThey will be holding an Open House "Spring Refresh" event on Thursday\, April 25 from 4:30   7:00 pm.
X-ALT-DESC;FMTTYPE=text/html:New Perspective Senior Living will host a ribbon cutting ceremony on Monday\, April 29 at 10:30 am.<br />\n&nbsp\;<br />\nThey will be holding an Open House &ldquo\;Spring Refresh&rdquo\; event on Thursday\, April 25 from 4:30 &ndash\; 7:00 pm.
LOCATION:1900 10th Street Silvis\, IL
UID:e.2843.14328
SEQUENCE:3
DTSTAMP:20260422T164214Z
URL:https://member.quadcitieschamber.com/events/details/ribbon-cutting-new-perspective-senior-living-14328
END:VEVENT

END:VCALENDAR
