BEGIN:VCALENDAR
VERSION:2.0
PRODID:-//ChamberMaster//Event Calendar 2.0//EN
METHOD:PUBLISH
X-PUBLISHED-TTL:P3D
REFRESH-INTERVAL:P3D
CALSCALE:GREGORIAN
BEGIN:VEVENT
DTSTART:20190321T210000Z
DTEND:20190321T213000Z
X-MICROSOFT-CDO-ALLDAYEVENT:FALSE
SUMMARY:Ribbon Cutting - Newton Law\, PLC
DESCRIPTION:Newton Law\, PLC will host a ribbon cutting ceremony on Thursday\, March 21 at 4:00 pm. celebrate their new business.
X-ALT-DESC;FMTTYPE=text/html:Newton Law\, PLC will host a ribbon cutting ceremony on Thursday\, March 21 at 4:00 pm.&nbsp\;celebrate their new business.&nbsp\;
LOCATION:605B W. 53rd Street Davenport\, IA 52801 Located across the street from North High School
UID:e.2843.13808
SEQUENCE:3
DTSTAMP:20260422T195938Z
URL:https://member.quadcitieschamber.com/events/details/ribbon-cutting-newton-law-plc-13808
END:VEVENT

END:VCALENDAR
