BEGIN:VCALENDAR
VERSION:2.0
PRODID:-//ChamberMaster//Event Calendar 2.0//EN
METHOD:PUBLISH
X-PUBLISHED-TTL:P3D
REFRESH-INTERVAL:P3D
CALSCALE:GREGORIAN
BEGIN:VEVENT
DTSTART:20190417T150000Z
DTEND:20190417T153000Z
X-MICROSOFT-CDO-ALLDAYEVENT:FALSE
SUMMARY:Ribbon Cutting - Niabi Zoo African Primate Exhibit
DESCRIPTION:Niabi Zoo will be hosting a ribbon cutting ceremony at 10:00 am to celebrate the opening of their new African Primate Exhibit.
X-ALT-DESC;FMTTYPE=text/html:<span style="font-family:arial\;"><span style="font-size:11.0pt\;">Niabi Zoo will be hosting a ribbon cutting ceremony at 10:00 am to celebrate the opening of their new African Primate Exhibit.</span></span>
LOCATION:13010 Niabi Zoo Road Coal Valley\, IL 61240 Once in Niabi Zoo\, please follow signs to the giraffe. The new African Primate Exhibit is located nearby. Niabi team members will help you locate them.
UID:e.2843.14272
SEQUENCE:3
DTSTAMP:20260422T164314Z
URL:https://member.quadcitieschamber.com/events/details/ribbon-cutting-niabi-zoo-african-primate-exhibit-14272
END:VEVENT

END:VCALENDAR
