BEGIN:VCALENDAR
VERSION:2.0
PRODID:-//ChamberMaster//Event Calendar 2.0//EN
METHOD:PUBLISH
X-PUBLISHED-TTL:P3D
REFRESH-INTERVAL:P3D
CALSCALE:GREGORIAN
BEGIN:VEVENT
DTSTART:20190605T160000Z
DTEND:20190605T163000Z
X-MICROSOFT-CDO-ALLDAYEVENT:FALSE
SUMMARY:Ribbon Cutting - Niabi Zoo: Celebration of New Giraffe Habitat
DESCRIPTION:Niabi Zoo will be hosting a celebration of the new Giraffe Habitat on Wednesday\, June 5 at 11:00 am.\n\nThe agenda is as follows:\n\n\n\n11:00 a.m.: Opening celebration begins\n\n11:01 a.m.: Kai Swanson\, Forest Preserve Commission President\, welcomes group\n\n11:02 a.m. Grand entrance by Kenya and Twiga\n\n11:05 a.m.: Speakers \n\n	Kai Swanson\, Forest Preserve Commission President\n	Lee Jackson\, Niabi Zoo Director \n\n 11:13 a.m.: Special plaque presentation: Niabi team gifts plaque to Maria Ontiveros\, granddaughter of donors Bob and Blenda Ontiveros.  \n\n11:18 a.m. Ribbon Cutting\n\n11:25 a.m.: Giraffe feeding and Zookeeper Chat\n\n11:30 a.m.: Time for media to capture photos/b-roll and conduct interviews. Available for interview:\n\n\n	Lee Jackson\, Niabi Zoo Director \n	Kai Swanson\, Forest Preserve Commission President\n	Maria Ontiveros\, member of donor family who contributed to the new giraffe shade structure\n	Kristina Stump\, primary hoofstock zookeeper
X-ALT-DESC;FMTTYPE=text/html:<br />\n<span style="font-size:14px\;"><span style="font-family:arial\;">Niabi Zoo will be&nbsp\;hosting a celebration of the new Giraffe Habitat on Wednesday\, June 5 at 11:00 am.<br />\nThe agenda is as follows:<br />\n<br />\n<strong>11:00 a.m.:</strong> <strong>Opening celebration begins</strong><br />\n<strong>11:01 a.m.: </strong>Kai Swanson\, Forest Preserve Commission President\, welcomes group<br />\n<strong>11:02 a.m. Grand entrance by Kenya and Twiga</strong><br />\n<strong>11:05 a.m.: Speakers </strong></span></span>\n<ul>\n	<li style="margin-bottom:6.0pt\;"><span style="font-size:14px\;"><span style="font-family:arial\;">Kai Swanson\, Forest Preserve Commission President</span></span></li>\n	<li style="margin-bottom:6.0pt\;"><span style="font-size:14px\;"><span style="font-family:arial\;">Lee Jackson\, Niabi Zoo Director </span></span></li>\n</ul>\n<span style="font-size:14px\;"><span style="font-family:arial\;"> <strong>11:13 a.m.: Special plaque presentation: </strong>Niabi team gifts plaque to Maria Ontiveros\, granddaughter of donors Bob and Blenda Ontiveros. &nbsp\;<br />\n<strong>11:18 a.m. Ribbon Cutting</strong><br />\n<strong>11:25 a.m.: Giraffe feeding and Zookeeper Chat</strong><br />\n<strong>11:30 a.m.: </strong>Time for media to capture photos/b-roll and conduct interviews. Available for interview:</span></span>\n\n<ul>\n	<li style="margin-bottom:6.0pt\;"><span style="font-size:14px\;"><span style="font-family:arial\;">Lee Jackson\, Niabi Zoo Director </span></span></li>\n	<li style="margin-bottom:6.0pt\;"><span style="font-size:14px\;"><span style="font-family:arial\;">Kai Swanson\, Forest Preserve Commission President</span></span></li>\n	<li style="margin-bottom:6.0pt\;"><span style="font-size:14px\;"><span style="font-family:arial\;">Maria Ontiveros\, member of donor family who contributed to the new giraffe shade structure</span></span></li>\n	<li style="margin-bottom:6.0pt\;"><span style="font-size:14px\;"><span style="font-family:arial\;">Kristina Stump\, primary hoofstock zookeeper </span></span></li>\n</ul>\n<br />\n&nbsp\;
LOCATION:13010 Niabi Zoo Road Coal Valley\, IL 61240
UID:e.2843.15397
SEQUENCE:3
DTSTAMP:20260422T132047Z
URL:https://member.quadcitieschamber.com/events/details/ribbon-cutting-niabi-zoo-celebration-of-new-giraffe-habitat-15397
END:VEVENT

END:VCALENDAR
