BEGIN:VCALENDAR
VERSION:2.0
PRODID:-//ChamberMaster//Event Calendar 2.0//EN
METHOD:PUBLISH
X-PUBLISHED-TTL:P3D
REFRESH-INTERVAL:P3D
CALSCALE:GREGORIAN
BEGIN:VEVENT
DTSTART:20170707T140000Z
DTEND:20170707T143000Z
X-MICROSOFT-CDO-ALLDAYEVENT:FALSE
SUMMARY:Ribbon Cutting - Niabi Zoo Oceans Exhibit
DESCRIPTION:Niabi Zoo\, 13010 Niabi Zoo Rd. Coal Valley\, IL 61240\, will host a ribbon cutting ceremony on Friday\, July 7 at 9am to celebrate their new Oceans exhibit. The new aquatic-themed exhibit includes a giant Pacific octopus\, a moray eel\, jelly fish\, and more!
X-ALT-DESC;FMTTYPE=text/html:<span style="font-family:arial\;"><span style="font-size:14px\;">Niabi Zoo\, 13010 Niabi Zoo Rd. Coal Valley\, IL 61240\, will host a ribbon cutting ceremony on Friday\, July 7 at 9am to celebrate their new Oceans exhibit. The new aquatic-themed exhibit includes a giant Pacific octopus\, a moray eel\, jelly fish\, and more!&nbsp\;</span></span>
LOCATION:Niabi Zoo 13010 Niabi Zoo Rd. Coal Valley\, IL 61240
UID:e.2843.6311
SEQUENCE:3
DTSTAMP:20260424T003139Z
URL:https://member.quadcitieschamber.com/events/details/ribbon-cutting-niabi-zoo-oceans-exhibit-6311
END:VEVENT

END:VCALENDAR
