BEGIN:VCALENDAR
VERSION:2.0
PRODID:-//ChamberMaster//Event Calendar 2.0//EN
METHOD:PUBLISH
X-PUBLISHED-TTL:P3D
REFRESH-INTERVAL:P3D
CALSCALE:GREGORIAN
BEGIN:VEVENT
DTSTART:20190503T133000Z
DTEND:20190503T140000Z
X-MICROSOFT-CDO-ALLDAYEVENT:FALSE
SUMMARY:Ribbon Cutting - O'Dell's Heating and Air
DESCRIPTION:O'Dell's Heating & Air will hold a ribbon cutting ceremony on Friday\, May 3 at 8:30 am. to celebrate an expansion.\n\nRefreshments will be served after the ceremony.
X-ALT-DESC;FMTTYPE=text/html:O&rsquo\;Dell&rsquo\;s Heating &amp\; Air will hold a ribbon cutting ceremony on Friday\, May 3 at 8:30 am. to celebrate an expansion.<br />\nRefreshments will be served after the ceremony.
LOCATION:767 52nd Avenue\, Suite 205 Moline\, IL 61265
UID:e.2843.14338
SEQUENCE:3
DTSTAMP:20260422T145705Z
URL:https://member.quadcitieschamber.com/events/details/ribbon-cutting-o-dell-s-heating-and-air-14338
END:VEVENT

END:VCALENDAR
