BEGIN:VCALENDAR
VERSION:2.0
PRODID:-//ChamberMaster//Event Calendar 2.0//EN
METHOD:PUBLISH
X-PUBLISHED-TTL:P3D
REFRESH-INTERVAL:P3D
CALSCALE:GREGORIAN
BEGIN:VEVENT
DTSTART:20170506T130000Z
DTEND:20170506T133000Z
X-MICROSOFT-CDO-ALLDAYEVENT:FALSE
SUMMARY:Ribbon Cutting - Outdoor Farmer's Market Season Opener
DESCRIPTION:A ribbon cutting will take place on Saturday\, May 6 at 8am to kick off the outdoor Farmer's Market season opener.
X-ALT-DESC;FMTTYPE=text/html:<br />\n<span style="font-family:arial\;"><span style="font-size:16px\;">A ribbon cutting will take place on Saturday\, May 6 at 8am to kick off the outdoor Farmer&#39\;s Market season opener.</span></span>
LOCATION:Freight House Farmer's Market 421 W. River Dr. Davenport\, IA 52801
UID:e.2843.5824
SEQUENCE:3
DTSTAMP:20260424T045847Z
URL:https://member.quadcitieschamber.com/events/details/ribbon-cutting-outdoor-farmer-s-market-season-opener-5824
END:VEVENT

END:VCALENDAR
