BEGIN:VCALENDAR
VERSION:2.0
PRODID:-//ChamberMaster//Event Calendar 2.0//EN
METHOD:PUBLISH
X-PUBLISHED-TTL:P3D
REFRESH-INTERVAL:P3D
CALSCALE:GREGORIAN
BEGIN:VEVENT
DTSTART:20180926T210000Z
DTEND:20180926T213000Z
X-MICROSOFT-CDO-ALLDAYEVENT:FALSE
SUMMARY:Ribbon Cutting - Overlook Village Retirement Communities
DESCRIPTION:Overlook Village will host a ribbon cutting ceremony on Wednesday\, September 26 at 4:00 pm.
X-ALT-DESC;FMTTYPE=text/html:Overlook Village will host a ribbon cutting ceremony on Wednesday\, September 26 at 4:00 pm.
LOCATION:941 6th Street Moline\, IL 61265
UID:e.2843.13490
SEQUENCE:3
DTSTAMP:20260423T044108Z
URL:https://member.quadcitieschamber.com/events/details/ribbon-cutting-overlook-village-retirement-communities-13490
END:VEVENT

END:VCALENDAR
