BEGIN:VCALENDAR
VERSION:2.0
PRODID:-//ChamberMaster//Event Calendar 2.0//EN
METHOD:PUBLISH
X-PUBLISHED-TTL:P3D
REFRESH-INTERVAL:P3D
CALSCALE:GREGORIAN
BEGIN:VEVENT
DTSTART:20140717T190000Z
DTEND:20140717T193000Z
X-MICROSOFT-CDO-ALLDAYEVENT:FALSE
SUMMARY:Ribbon Cutting - Paul Mitchell The School in Davenport
DESCRIPTION:Paul Mitchell The School\, In Davenport\, 4020 Brady St. Davenport\, IA 52806\, will host a ribbon cutting ceremony to celebrate their anniversary on Thursday\, July 17th at 2:00pm.  Paul Mitchell The School in Davenport is an accredited cosmetology school that provides exceptional education to students interested in the cosmetology field.  Following the systems created by Paul Mitchell\, the school provides a number of hair styling services to the community.  Paul Mitchell Schools are also huge advocates for charities throughout the Unites States.  In only three months 110 Paul Mitchell Schools raised over $2.1 million for 11 selected charities.  One of the largest recipients of their fundraising efforts was the Magic Johnson Foundation that received $430\,000. For more information on Paul Mitchell The School in Davenport\, please visit www.davenport.paulmitchell.edu.
X-ALT-DESC;FMTTYPE=text/html:<FONT face=Calibri><P style="MARGIN: 0in 0in 0pt" class=MsoNormal>Paul Mitchell The School\, In Davenport\, 4020 Brady St. Davenport\, IA 52806\, will host a ribbon cutting ceremony to celebrate their anniversary on Thursday\, July 17<SUP>th</SUP> at 2:00pm. <?xml:namespace prefix = o ns = "urn:schemas-microsoft-com:office:office" /><o:p></o:p></P><P style="MARGIN: 0in 0in 0pt" class=MsoNormal><o:p>&nbsp\;</o:p></P><P style="MARGIN: 0in 0in 0pt" class=MsoNormal>Paul Mitchell The School in Davenport is an accredited cosmetology school that provides exceptional education to students interested in the cosmetology field.<SPAN style="mso-spacerun: yes">&nbsp\; </SPAN>Following the systems created by Paul Mitchell\, the school provides a number of hair styling services to the community.<SPAN style="mso-spacerun: yes">&nbsp\; </SPAN>Paul Mitchell Schools are also huge advocates for charities throughout the Unites States.<SPAN style="mso-spacerun: yes">&nbsp\; </SPAN>In only three months 110 Paul Mitchell Schools raised over $2.1 million for 11 selected charities.<SPAN style="mso-spacerun: yes">&nbsp\; </SPAN>One of the largest recipients of their fundraising efforts was the Magic Johnson Foundation that received $430\,000.<o:p></o:p></P><P style="MARGIN: 0in 0in 0pt" class=MsoNormal><o:p>&nbsp\;</o:p></P><P style="MARGIN: 0in 0in 0pt" class=MsoNormal>For more information on Paul Mitchell The School in Davenport\, please visit <A href="http://www.davenport.paulmitchell.edu"><FONT color=#0000ff face="Times New Roman">www.davenport.paulmitchell.edu</FONT></A>.<SPAN style="mso-spacerun: yes">&nbsp\;&nbsp\; </SPAN><o:p></o:p></P><P></FONT>&nbsp\;</P>
LOCATION:Paul Mitchell the School - Davenport4020 N. Brady St. Davenport\, IA 52806
UID:e.2843.821
SEQUENCE:3
DTSTAMP:20260422T141154Z
URL:https://member.quadcitieschamber.com/events/details/ribbon-cutting-paul-mitchell-the-school-in-davenport-07-17-2014-821
END:VEVENT

END:VCALENDAR
