BEGIN:VCALENDAR
VERSION:2.0
PRODID:-//ChamberMaster//Event Calendar 2.0//EN
METHOD:PUBLISH
X-PUBLISHED-TTL:P3D
REFRESH-INTERVAL:P3D
CALSCALE:GREGORIAN
BEGIN:VEVENT
DTSTART:20180516T220000Z
DTEND:20180516T223000Z
X-MICROSOFT-CDO-ALLDAYEVENT:FALSE
SUMMARY:Ribbon Cutting - Pershing Hills Lofts
DESCRIPTION:Pershing Hills Lofts\, 511 Pershing Ave. Davenport\, IA 52801\, will host a ribbon cutting ceremony on Wednesday\, May 16 at 5:00pm to celebrate their grand opening!  \n\n \n\nPershing Hill Lofts LLC announces the grand opening of the Pershing Hill Lofts luxury housing community\, a $15 million amenity-rich project within walking distance of downtown Davenport. \n\n \n\nThe project took two contiguous buildings\, the old Crescent Electric Building and the Sieg Iron Building on the corner of 5th and Pershing in Davenport\, to form 62 market-rate apartments. The lofts range in size from 502 square feet and up to 1\,680 square feet with the option of studio\, one bedroom\, two bedroom\, and three-bedroom units. The lofts feature 10-to-11-foot high ceilings\, and some of the first floor units have 17-to-18-foot ceilings\, hardwood or concrete floors\, granite countertops\, stainless steel appliances\, in-unit laundry facilities. Some units feature advertising from the original exterior walls. \n\n \n\n"We are excited to have the public view the project as we feel this is the most unique and well-designed project in the Quad-Cities\," said John G. Ruhl managing partner. The project is a collaboration between business partners John G. Ruhl\, president of NAI Ruhl Commercial Company\, and John Carroll of Carroll Law. The building recently has gone into service and leasing activity has been strong. For leasing information\, please contact John G. Ruhl. \n\n \n\nClick here to visit their website.
X-ALT-DESC;FMTTYPE=text/html:<br />\n<span style="font-family:arial\,sans-serif\;">Pershing Hills Lofts\, 511 Pershing Ave. Davenport\, IA 52801\, will host a ribbon cutting ceremony on Wednesday\, May 16 at 5:00pm to celebrate their grand opening! &nbsp\;</span><br />\n&nbsp\;<br />\n<span style="font-family:arial\,sans-serif\;">Pershing Hill Lofts LLC announces the grand opening of the Pershing Hill Lofts luxury housing community\, a $15 million amenity-rich project within walking distance of downtown Davenport. </span><br />\n&nbsp\;<br />\n<span style="font-family:arial\,sans-serif\;">The project took two contiguous buildings\, the old Crescent Electric Building and the Sieg Iron Building on the corner of 5th and Pershing in Davenport\, to form 62 market-rate apartments. The lofts range in size from 502 square feet and up to 1\,680 square feet with the option of studio\, one bedroom\, two bedroom\, and three-bedroom units. The lofts feature 10-to-11-foot high ceilings\, and some of the first floor units have 17-to-18-foot ceilings\, hardwood or concrete floors\, granite countertops\, stainless steel appliances\, in-unit laundry facilities. Some units feature advertising from the original exterior walls. </span><br />\n&nbsp\;<br />\n<span style="font-family:arial\,sans-serif\;">&ldquo\;We are excited to have the public view the project as we feel this is the most unique and well-designed project in the Quad-Cities\,&rdquo\; said John G. Ruhl managing partner. The project is a collaboration between business partners John G. Ruhl\, president of NAI Ruhl Commercial Company\, and John Carroll of Carroll Law. The building recently has gone into service and leasing activity has been strong. For leasing information\, please contact John G. Ruhl. </span><br />\n&nbsp\;<br />\n<span style="font-family:arial\,sans-serif\;"><span style="font-size:11.0pt\;"><a href="http://pershinghilllofts.com/">Click here</a> to visit their website.&nbsp\;</span></span>
LOCATION:Pershing Hills Lofts 511 Pershing Ave. Davenport\, IA 52801
UID:e.2843.13250
SEQUENCE:3
DTSTAMP:20260423T105910Z
URL:https://member.quadcitieschamber.com/events/details/ribbon-cutting-pershing-hills-lofts-13250
END:VEVENT

END:VCALENDAR
