BEGIN:VCALENDAR
VERSION:2.0
PRODID:-//ChamberMaster//Event Calendar 2.0//EN
METHOD:PUBLISH
X-PUBLISHED-TTL:P3D
REFRESH-INTERVAL:P3D
CALSCALE:GREGORIAN
BEGIN:VEVENT
DTSTART:20180302T150000Z
DTEND:20180302T160000Z
X-MICROSOFT-CDO-ALLDAYEVENT:FALSE
SUMMARY:Ribbon Cutting - Pet Supplies Plus
DESCRIPTION:Pet Supplies Plus\, 902 W. Kimberly Rd. Suite 16 Davenport\, IA 52806\, will host a ribbon cutting ceremony on Friday\, March 2 at 9am to celebrate their grand opening.\n\n \n\n**Located in the Village Shopping Center
X-ALT-DESC;FMTTYPE=text/html:<span style="font-size:14px\;"><span style="font-family:arial\;">Pet Supplies Plus\, 902 W. Kimberly Rd. Suite 16 Davenport\, IA 52806\, will host a ribbon cutting ceremony on Friday\, March 2 at 9am to celebrate their grand opening.<br />\n&nbsp\;<br />\n**Located in the Village Shopping Center </span></span>
LOCATION:Pet Supplies Plus 902 W. Kimberly Rd. Suite 16 Davenport\, IA 52806
UID:e.2843.10064
SEQUENCE:3
DTSTAMP:20260423T142858Z
URL:https://member.quadcitieschamber.com/events/details/ribbon-cutting-pet-supplies-plus-10064
END:VEVENT

END:VCALENDAR
