BEGIN:VCALENDAR
VERSION:2.0
PRODID:-//ChamberMaster//Event Calendar 2.0//EN
METHOD:PUBLISH
X-PUBLISHED-TTL:P3D
REFRESH-INTERVAL:P3D
CALSCALE:GREGORIAN
BEGIN:VEVENT
DTSTART:20190613T153000Z
DTEND:20190613T160000Z
X-MICROSOFT-CDO-ALLDAYEVENT:FALSE
SUMMARY:Ribbon Cutting - Portillo's
DESCRIPTION:Portillo's will host a ribbon cutting ceremony on Thursday\, June 13\, to celebrate the Grand Opening of their new store.
X-ALT-DESC;FMTTYPE=text/html:<br />\nPortillo&rsquo\;s will host a ribbon cutting ceremony on Thursday\, June 13\, to celebrate the Grand Opening of their new store.
LOCATION:2741 E. 53rd Street Davenport\, IA 52807
UID:e.2843.15404
SEQUENCE:3
DTSTAMP:20260422T131321Z
URL:https://member.quadcitieschamber.com/events/details/ribbon-cutting-portillo-s-15404
END:VEVENT

END:VCALENDAR
