BEGIN:VCALENDAR
VERSION:2.0
PRODID:-//ChamberMaster//Event Calendar 2.0//EN
METHOD:PUBLISH
X-PUBLISHED-TTL:P3D
REFRESH-INTERVAL:P3D
CALSCALE:GREGORIAN
BEGIN:VEVENT
DTSTART:20181101T210000Z
DTEND:20181101T213000Z
X-MICROSOFT-CDO-ALLDAYEVENT:FALSE
SUMMARY:Ribbon Cutting - PURPOSE. Coaching
DESCRIPTION:PURPOSE. Coaching will host a ribbon cutting ceremony on Thursday\, November 1st at 4:00 pm to celebrate their new business. They are located on the third floor of The Spotlight Theatre in Moline
X-ALT-DESC;FMTTYPE=text/html:<span style="font-family:calibri\,sans-serif\;"><span style="font-size:11.0pt\;">PURPOSE. Coaching will host a ribbon cutting ceremony on Thursday\, November 1<sup>st</sup> at 4:00 pm to celebrate their new business. They are located on the third floor of The Spotlight Theatre in Moline</span></span>
LOCATION:1800 7th Avenue\, Suite 301 Moline\, IL 61265 Located on the 3rd floor of the Spotlight Theatre
UID:e.2843.13528
SEQUENCE:3
DTSTAMP:20260423T012304Z
URL:https://member.quadcitieschamber.com/events/details/ribbon-cutting-purpose-coaching-13528
END:VEVENT

END:VCALENDAR
