BEGIN:VCALENDAR
VERSION:2.0
PRODID:-//ChamberMaster//Event Calendar 2.0//EN
METHOD:PUBLISH
X-PUBLISHED-TTL:P3D
REFRESH-INTERVAL:P3D
CALSCALE:GREGORIAN
BEGIN:VEVENT
DTSTART:20171027T200000Z
DTEND:20171027T203000Z
X-MICROSOFT-CDO-ALLDAYEVENT:FALSE
SUMMARY:Ribbon Cutting - Putnam Museum 150th Anniversary and Exhibit: Making History Together
DESCRIPTION:Putnam Museum & Science Center\, 1717 W. 12th St. Davenport\, IA 52804 will host a ribbon cutting ceremony on Friday\, October 27 at 3pm in celebration of their 150th anniversary and Exhibit: Making History Together.
X-ALT-DESC;FMTTYPE=text/html:<span style="font-family:arial\;"><span style="font-size:14px\;">Putnam Museum &amp\; Science Center\, 1717 W. 12th St. Davenport\, IA 52804 will host a ribbon cutting ceremony on Friday\, October 27 at 3pm in celebration of their 150<sup>th</sup> anniversary and Exhibit: Making History Together.</span></span>
LOCATION:Putnam Museum & Science Center 1717 W. 12th St. Davenport\, IA 52804
UID:e.2843.8594
SEQUENCE:3
DTSTAMP:20260423T210616Z
URL:https://member.quadcitieschamber.com/events/details/ribbon-cutting-putnam-museum-150th-anniversary-and-exhibit-making-history-together-8594
END:VEVENT

END:VCALENDAR
