BEGIN:VCALENDAR
VERSION:2.0
PRODID:-//ChamberMaster//Event Calendar 2.0//EN
METHOD:PUBLISH
X-PUBLISHED-TTL:P3D
REFRESH-INTERVAL:P3D
CALSCALE:GREGORIAN
BEGIN:VEVENT
DTSTART:20190125T160000Z
DTEND:20190125T163000Z
X-MICROSOFT-CDO-ALLDAYEVENT:FALSE
SUMMARY:Ribbon Cutting - Putnam Museum & Science Center
DESCRIPTION:The Putnam is hosting a ribbon cutting ceremony on Friday\, January 25 at 10:00 am to celebrate a new exhibit.
X-ALT-DESC;FMTTYPE=text/html:The Putnam is hosting a ribbon cutting ceremony on Friday\, January 25 at 10:00 am to celebrate a new exhibit.
LOCATION:1717 W. 12th Street Davenport\, IA 52804
UID:e.2843.13736
SEQUENCE:3
DTSTAMP:20260422T215432Z
URL:https://member.quadcitieschamber.com/events/details/ribbon-cutting-putnam-museum-science-center-13736
END:VEVENT

END:VCALENDAR
